BEGIN:VCALENDAR
VERSION:2.0
PRODID:-//Nature NB - ECPv6.13.2.1//NONSGML v1.0//EN
CALSCALE:GREGORIAN
METHOD:PUBLISH
X-ORIGINAL-URL:https://www.naturenb.ca/?lang=fr
X-WR-CALDESC:Évènements pour Nature NB
REFRESH-INTERVAL;VALUE=DURATION:PT1H
X-Robots-Tag:noindex
X-PUBLISHED-TTL:PT1H
BEGIN:VTIMEZONE
TZID:America/Halifax
BEGIN:DAYLIGHT
TZOFFSETFROM:-0400
TZOFFSETTO:-0300
TZNAME:ADT
DTSTART:20250309T060000
END:DAYLIGHT
BEGIN:STANDARD
TZOFFSETFROM:-0300
TZOFFSETTO:-0400
TZNAME:AST
DTSTART:20251102T050000
END:STANDARD
END:VTIMEZONE
BEGIN:VEVENT
DTSTART;TZID=America/Halifax:20250729T100000
DTEND;TZID=America/Halifax:20250729T113000
DTSTAMP:20260423T001355
CREATED:20250716T112810Z
LAST-MODIFIED:20250716T112810Z
UID:20728-1753783200-1753788600@www.naturenb.ca
SUMMARY:Blitz international de suivi du monarque à la Résidence du Gouverneur (Fredericton)
DESCRIPTION:Venez nous aider à recenser les populations de papillons monarques !\nJoignez-vous à Nature NB et à la Résidence du Gouverneur du Nouveau-Brunswick pour le Blitz international de suivi du monarque 2025 de Mission Monarch.\nAu 51\, chemin Woodstock\, à Fredericton\, de 10 h à 11 h 30\, nous vérifierons autant d’asclépiades que possible pour voir s’il y a des signes d’activité des monarques et nous enverrons les données à Espace pour la vie pour leur base de données.\nCe projet a été financé par le Fonds de fiducie pour la faune du Nouveau-Brunswick et le Fonds de fiducie pour l’environnement du Nouveau-Brunswick.
URL:https://www.naturenb.ca/event/blitz-international-de-suivi-du-monarque-a-la-residence-du-gouverneur-fredericton/?lang=fr
LOCATION:Government House\, 51 Woodstock Rd.\, Fredericton\, NB\, Canada
CATEGORIES:Enquête sur la faune
ATTACH;FMTTYPE=image/png:https://www.naturenb.ca/wp-content/uploads/2025/07/5.png
END:VEVENT
BEGIN:VEVENT
DTSTART;TZID=America/Halifax:20250729T130000
DTEND;TZID=America/Halifax:20250729T140000
DTSTAMP:20260423T001355
CREATED:20250716T114710Z
LAST-MODIFIED:20250723T134244Z
UID:20738-1753794000-1753797600@www.naturenb.ca
SUMMARY:Blitz international de suivi du monarque à Dieppe
DESCRIPTION:Venez aider à recenser les populations de papillons monarques avec nous !\nJoignez-vous à Nature NB\, à la Ville de Dieppe et à l’Alliance du bassin versant de la Petitcodiac pour le Blitz international de surveillance 2025 de Mission Monarch.\nAu 111\, rue Aquatique à Dieppe\, à 13 h le 29 juillet\, nous vérifierons autant d’asclépiades que possible pour trouver des preuves de l’activité des monarques\, et nous enverrons les données à Espace pour la vie pour leur base de données.\nCe projet a été financé par le Fonds de fiducie de la faune du Nouveau-Brunswick et le Fonds de fiducie pour l’environnement du Nouveau-Brunswick.
URL:https://www.naturenb.ca/event/blitz-international-de-suivi-du-monarque-a-dieppe/?lang=fr
LOCATION:Centre Aquatique et Sportif de Dieppe\, 111 Aquatique St.\, Dieppe\, NB\, Canada
CATEGORIES:Enquête sur la faune
ATTACH;FMTTYPE=image/png:https://www.naturenb.ca/wp-content/uploads/2025/07/Monarch-BioBlitz-2025-Graphics-2-1.png
END:VEVENT
BEGIN:VEVENT
DTSTART;TZID=America/Halifax:20250729T190000
DTEND;TZID=America/Halifax:20250729T200000
DTSTAMP:20260423T001355
CREATED:20250716T115311Z
LAST-MODIFIED:20250723T134823Z
UID:20743-1753815600-1753819200@www.naturenb.ca
SUMMARY:Blitz de suivi des monarques à Moncton
DESCRIPTION:Venez aider à recenser les populations de papillons monarques avec nous !\nJoignez-vous à Nature NB pour le blitz international de surveillance 2025 de Mission Monarque.\nAu Sportsplex Hal Betts (250 boul. Assomption) à Moncton\, à 19 h le 29 juillet\, nous vérifierons autant d’asclépiades que possible pour trouver des preuves de l’activité des monarques\, et nous enverrons les données à Espace pour la vie pour leur base de données.\nCe projet a été financé par le Fonds de fiducie de la faune du Nouveau-Brunswick et le Fonds de fiducie pour l’environnement du Nouveau-Brunswick.
URL:https://www.naturenb.ca/event/blitz-de-suivi-des-monarques-a-moncton/?lang=fr
LOCATION:Hal Betts Sportsplex\, 250 Asssomption blvd\, Moncton\, NB\, Canada
CATEGORIES:Enquête sur la faune
ATTACH;FMTTYPE=image/png:https://www.naturenb.ca/wp-content/uploads/2025/07/Monarch-BioBlitz-2025-Graphics-7.png
END:VEVENT
END:VCALENDAR