BEGIN:VCALENDAR
VERSION:2.0
PRODID:-//Nature NB - ECPv6.13.2.1//NONSGML v1.0//EN
CALSCALE:GREGORIAN
METHOD:PUBLISH
X-WR-CALNAME:Nature NB
X-ORIGINAL-URL:https://www.naturenb.ca/?lang=fr
X-WR-CALDESC:Évènements pour Nature NB
REFRESH-INTERVAL;VALUE=DURATION:PT1H
X-Robots-Tag:noindex
X-PUBLISHED-TTL:PT1H
BEGIN:VTIMEZONE
TZID:America/Halifax
BEGIN:DAYLIGHT
TZOFFSETFROM:-0400
TZOFFSETTO:-0300
TZNAME:ADT
DTSTART:20250309T060000
END:DAYLIGHT
BEGIN:STANDARD
TZOFFSETFROM:-0300
TZOFFSETTO:-0400
TZNAME:AST
DTSTART:20251102T050000
END:STANDARD
END:VTIMEZONE
BEGIN:VEVENT
DTSTART;TZID=America/Halifax:20250722T183000
DTEND;TZID=America/Halifax:20250722T193000
DTSTAMP:20260423T000909
CREATED:20250715T185712Z
LAST-MODIFIED:20250715T185712Z
UID:20682-1753209000-1753212600@www.naturenb.ca
SUMMARY:Blitz de suivi du monarque à Hampton
DESCRIPTION:Venez aider à recenser les populations de papillons monarques avec nous !\nJoignez-vous à Nature NB pour le Blitz international de suivi du monarque 2025\, avec Mission Monarque.\nAu 454\, rue Main à Hampton\, de 18 h 30 à 19 h 30 le 22 juillet\, nous vérifierons autant d’asclépiades que possible pour trouver des preuves de l’activité des monarques et nous enverrons les données à Espace pour la vie pour leur base de données.\nCe projet a été financé par le Fonds de fiducie pour la faune du Nouveau-Brunswick et le Fonds de fiducie pour l’environnement du Nouveau-Brunswick.
URL:https://www.naturenb.ca/event/blitz-de-suivi-du-monarque-a-hampton/?lang=fr
LOCATION:Hampton Rain Garden\, 454 Main St.\, Hampton\, NB\, Canada
CATEGORIES:Enquête sur la faune
ATTACH;FMTTYPE=image/png:https://www.naturenb.ca/wp-content/uploads/2025/07/8.png
END:VEVENT
BEGIN:VEVENT
DTSTART;TZID=America/Halifax:20250728T180000
DTEND;TZID=America/Halifax:20250728T193000
DTSTAMP:20260423T000909
CREATED:20250715T191341Z
LAST-MODIFIED:20250715T191341Z
UID:20691-1753725600-1753731000@www.naturenb.ca
SUMMARY:Blitz de suivi des monarques à Devon (Fredericton)
DESCRIPTION:Venez nous aider à recenser les populations de papillons monarques !\nJoignez-vous à Nature NB et à la Nashwaak Watershed Association pour la campagne internationale de surveillance 2025 de Mission Monarch.\nAu 200\, rue Gibson à Fredericton\, de 18 h à 19 h 30\, nous vérifierons autant d’asclépiades que possible pour voir s’il y a des signes d’activité des monarques et nous enverrons les données à Espace pour la vie pour leur base de données.\nCe projet a été financé par le Fonds de fiducie de la faune du Nouveau-Brunswick et le Fonds de fiducie pour l’environnement du Nouveau-Brunswick.
URL:https://www.naturenb.ca/event/blitz-de-suivi-des-monarques-a-devon-fredericton/?lang=fr
LOCATION:Devon Lumber\, 200 Gibson St.\, Fredericton\, NB\, Canada
CATEGORIES:Enquête sur la faune
ATTACH;FMTTYPE=image/png:https://www.naturenb.ca/wp-content/uploads/2025/07/9.png
END:VEVENT
BEGIN:VEVENT
DTSTART;TZID=America/Halifax:20250729T100000
DTEND;TZID=America/Halifax:20250729T113000
DTSTAMP:20260423T000909
CREATED:20250716T112810Z
LAST-MODIFIED:20250716T112810Z
UID:20728-1753783200-1753788600@www.naturenb.ca
SUMMARY:Blitz international de suivi du monarque à la Résidence du Gouverneur (Fredericton)
DESCRIPTION:Venez nous aider à recenser les populations de papillons monarques !\nJoignez-vous à Nature NB et à la Résidence du Gouverneur du Nouveau-Brunswick pour le Blitz international de suivi du monarque 2025 de Mission Monarch.\nAu 51\, chemin Woodstock\, à Fredericton\, de 10 h à 11 h 30\, nous vérifierons autant d’asclépiades que possible pour voir s’il y a des signes d’activité des monarques et nous enverrons les données à Espace pour la vie pour leur base de données.\nCe projet a été financé par le Fonds de fiducie pour la faune du Nouveau-Brunswick et le Fonds de fiducie pour l’environnement du Nouveau-Brunswick.
URL:https://www.naturenb.ca/event/blitz-international-de-suivi-du-monarque-a-la-residence-du-gouverneur-fredericton/?lang=fr
LOCATION:Government House\, 51 Woodstock Rd.\, Fredericton\, NB\, Canada
CATEGORIES:Enquête sur la faune
ATTACH;FMTTYPE=image/png:https://www.naturenb.ca/wp-content/uploads/2025/07/5.png
END:VEVENT
BEGIN:VEVENT
DTSTART;TZID=America/Halifax:20250729T130000
DTEND;TZID=America/Halifax:20250729T140000
DTSTAMP:20260423T000909
CREATED:20250716T114710Z
LAST-MODIFIED:20250723T134244Z
UID:20738-1753794000-1753797600@www.naturenb.ca
SUMMARY:Blitz international de suivi du monarque à Dieppe
DESCRIPTION:Venez aider à recenser les populations de papillons monarques avec nous !\nJoignez-vous à Nature NB\, à la Ville de Dieppe et à l’Alliance du bassin versant de la Petitcodiac pour le Blitz international de surveillance 2025 de Mission Monarch.\nAu 111\, rue Aquatique à Dieppe\, à 13 h le 29 juillet\, nous vérifierons autant d’asclépiades que possible pour trouver des preuves de l’activité des monarques\, et nous enverrons les données à Espace pour la vie pour leur base de données.\nCe projet a été financé par le Fonds de fiducie de la faune du Nouveau-Brunswick et le Fonds de fiducie pour l’environnement du Nouveau-Brunswick.
URL:https://www.naturenb.ca/event/blitz-international-de-suivi-du-monarque-a-dieppe/?lang=fr
LOCATION:Centre Aquatique et Sportif de Dieppe\, 111 Aquatique St.\, Dieppe\, NB\, Canada
CATEGORIES:Enquête sur la faune
ATTACH;FMTTYPE=image/png:https://www.naturenb.ca/wp-content/uploads/2025/07/Monarch-BioBlitz-2025-Graphics-2-1.png
END:VEVENT
BEGIN:VEVENT
DTSTART;TZID=America/Halifax:20250729T190000
DTEND;TZID=America/Halifax:20250729T200000
DTSTAMP:20260423T000909
CREATED:20250716T115311Z
LAST-MODIFIED:20250723T134823Z
UID:20743-1753815600-1753819200@www.naturenb.ca
SUMMARY:Blitz de suivi des monarques à Moncton
DESCRIPTION:Venez aider à recenser les populations de papillons monarques avec nous !\nJoignez-vous à Nature NB pour le blitz international de surveillance 2025 de Mission Monarque.\nAu Sportsplex Hal Betts (250 boul. Assomption) à Moncton\, à 19 h le 29 juillet\, nous vérifierons autant d’asclépiades que possible pour trouver des preuves de l’activité des monarques\, et nous enverrons les données à Espace pour la vie pour leur base de données.\nCe projet a été financé par le Fonds de fiducie de la faune du Nouveau-Brunswick et le Fonds de fiducie pour l’environnement du Nouveau-Brunswick.
URL:https://www.naturenb.ca/event/blitz-de-suivi-des-monarques-a-moncton/?lang=fr
LOCATION:Hal Betts Sportsplex\, 250 Asssomption blvd\, Moncton\, NB\, Canada
CATEGORIES:Enquête sur la faune
ATTACH;FMTTYPE=image/png:https://www.naturenb.ca/wp-content/uploads/2025/07/Monarch-BioBlitz-2025-Graphics-7.png
END:VEVENT
BEGIN:VEVENT
DTSTART;TZID=America/Halifax:20250730T180000
DTEND;TZID=America/Halifax:20250730T193000
DTSTAMP:20260423T000909
CREATED:20250716T133619Z
LAST-MODIFIED:20250728T172739Z
UID:20781-1753898400-1753903800@www.naturenb.ca
SUMMARY:Blitz de suivi du monarque à Saint John
DESCRIPTION:Venez nous aider à recenser les populations de papillons monarques !\nJoignez-vous à Nature NB\, à ACAP Saint John et aux Jardins publics de Saint John pour le blitz de surveillance internationale 2025 de Mission Monarch.\nAux Jardins publics de Saint John\, de 18 h à 19 h 30 le 30 juillet\, nous vérifierons autant d’asclépiades que possible pour trouver des preuves de l’activité des monarques\, et nous enverrons les données à Espace pour la vie pour leur base de données. Le stationnement facultatif est situé au 460 Arrow Walk Rd.  \nSaint John Public Gardens – Lieu de rencontre ; 460 Arrow Walk Rd – Parking facultatif\nCe projet a été financé par le Fonds fiduciaire de la faune du Nouveau-Brunswick et le Fonds fiduciaire pour l’environnement du Nouveau-Brunswick.
URL:https://www.naturenb.ca/event/blitz-de-suivi-du-monarque-a-saint-john/?lang=fr
LOCATION:Saint John Public Gardens\, 48 Seely St\, Saint John\, NB\, Canada
CATEGORIES:Enquête sur la faune
ATTACH;FMTTYPE=image/png:https://www.naturenb.ca/wp-content/uploads/2025/07/Monarch-BioBlitz-2025-Graphics-12.png
END:VEVENT
BEGIN:VEVENT
DTSTART;TZID=America/Halifax:20250731T100000
DTEND;TZID=America/Halifax:20250731T120000
DTSTAMP:20260423T000909
CREATED:20250716T122724Z
LAST-MODIFIED:20250716T123040Z
UID:20752-1753956000-1753963200@www.naturenb.ca
SUMMARY:Blitz de suivi des monarques à Belleisle
DESCRIPTION:Venez nous aider à recenser les populations de papillons monarques !\nJoignez-vous à Nature NB et à la Coalition du bassin versant de Belleisle pour le blitz international de suivi de Mission Monarque 2025.\nNous nous réunirons au Pleasantview Inn à Hatfield Point\, 2127 route NB-124 à 10 h le 31 juillet. Nous vérifierons autant d’asclépiades que possible pour trouver des preuves de l’activité des monarques et nous enverrons les données à Space for Life pour leur base de données.\nCe projet a été financé par le Fonds de fiducie de la faune du Nouveau-Brunswick et le Fonds de fiducie pour l’environnement du Nouveau-Brunswick.
URL:https://www.naturenb.ca/event/campagne-de-surveillance-des-monarques-a-belleisle/?lang=fr
LOCATION:Pleasantview Inn\, 2127 NB-124\, Hatfield Point\, NB\, Canada
CATEGORIES:Enquête sur la faune
ATTACH;FMTTYPE=image/png:https://www.naturenb.ca/wp-content/uploads/2025/07/Monarch-BioBlitz-2025-Graphics-5.png
END:VEVENT
BEGIN:VEVENT
DTSTART;TZID=America/Halifax:20250731T180000
DTEND;TZID=America/Halifax:20250731T193000
DTSTAMP:20260423T000909
CREATED:20250716T132830Z
LAST-MODIFIED:20250728T164524Z
UID:20772-1753984800-1753990200@www.naturenb.ca
SUMMARY:Blitz de suivi du monarque à Sunset U-Pick (Fredericton)
DESCRIPTION:Venez aider à recenser les populations de papillons monarques avec nous !\nJoignez-vous à Nature NB\, à la Fondation pour la protection des sites naturels du Nouveau-Brunswick\, à Sunset U-Pick et au Club nature de Fredericton pour le blitz de surveillance internationale 2025 de Mission Monarque.\nAu 49\, rue Ferris\, à Fredericton\, de 18 h 30 à 19 h 30 le 31 juillet\, nous vérifierons autant d’asclépiades que possible pour voir s’il y a des signes d’activité des monarques et nous enverrons les données à Espace pour la vie pour leur base de données.\nCe projet a été financé par le Fonds de fiducie de la faune du Nouveau-Brunswick et le Fonds de fiducie pour l’environnement du Nouveau-Brunswick.
URL:https://www.naturenb.ca/event/blitz-de-suivi-du-monarque-a-sunset-u-pick-fredericton/?lang=fr
LOCATION:Sunset U-Pick\, 49 Ferris St.\, Fredericton\, NB\, Canada
CATEGORIES:Enquête sur la faune
ATTACH;FMTTYPE=image/png:https://www.naturenb.ca/wp-content/uploads/2025/07/Monarch-BioBlitz-2025-Graphics-9.png
END:VEVENT
END:VCALENDAR