BEGIN:VCALENDAR
VERSION:2.0
PRODID:-//Nature NB - ECPv6.13.2.1//NONSGML v1.0//EN
CALSCALE:GREGORIAN
METHOD:PUBLISH
X-WR-CALNAME:Nature NB
X-ORIGINAL-URL:https://www.naturenb.ca
X-WR-CALDESC:Events for Nature NB
REFRESH-INTERVAL;VALUE=DURATION:PT1H
X-Robots-Tag:noindex
X-PUBLISHED-TTL:PT1H
BEGIN:VTIMEZONE
TZID:America/Halifax
BEGIN:DAYLIGHT
TZOFFSETFROM:-0400
TZOFFSETTO:-0300
TZNAME:ADT
DTSTART:20250309T060000
END:DAYLIGHT
BEGIN:STANDARD
TZOFFSETFROM:-0300
TZOFFSETTO:-0400
TZNAME:AST
DTSTART:20251102T050000
END:STANDARD
END:VTIMEZONE
BEGIN:VEVENT
DTSTART;TZID=America/Halifax:20250726T090000
DTEND;TZID=America/Halifax:20250726T110000
DTSTAMP:20260422T172146
CREATED:20250625T183648Z
LAST-MODIFIED:20250625T183648Z
UID:20500-1753520400-1753527600@www.naturenb.ca
SUMMARY:MarshWatch Walk (French Program)
DESCRIPTION:Join Nature NB on a Marsh Walk! Learn the basics of wetland bird and frog identification through this walk. We will also teach the beginner skills needed to survey a wetland\, which will enable participants to become community scientists!
URL:https://www.naturenb.ca/event/marshwatch-walk-french-program/
LOCATION:Cocagne Marina\, 130 Marina Rd\, Cocagne\, NB\, E4R 2T1\, Canada
CATEGORIES:Nature Walk
ATTACH;FMTTYPE=image/png:https://www.naturenb.ca/wp-content/uploads/2025/06/peach-Abstract-Spots-Minimalistic-Design-Quote-Instagram-Post-1920-x-1080-px.png
END:VEVENT
END:VCALENDAR